BEGIN:VCALENDAR
VERSION:2.0
PRODID:-//eventon.com NONSGML v1.0//EN
BEGIN:VEVENT
UID:69ec1f41b0d44
DTSTAMP:20260424T215617
DTSTART:20190403T040000Z
DTEND:20190407T035900Z
LOCATION:Skydive DeLand 1600 Flight Line Blvd
SUMMARY:Fly4Life
DESCRIPTION: Fly4Life
END:VEVENT
END:VCALENDAR