BEGIN:VCALENDAR
VERSION:2.0
PRODID:-//eventon.com NONSGML v1.0//EN
BEGIN:VEVENT
UID:69ec0d89ef41d
DTSTAMP:20260424T204041
DTSTART:20190418T040000Z
DTEND:20190423T035900Z
LOCATION:Zhillls 4241 Sky Dive Ln
SUMMARY:Flamingo Fest
DESCRIPTION: Flamingo Fest
END:VEVENT
END:VCALENDAR