BEGIN:VCALENDAR
VERSION:2.0
PRODID:-//eventon.com NONSGML v1.0//EN
BEGIN:VEVENT
UID:69ebfe6621d39
DTSTAMP:20260424T193606
DTSTART:20190523T040000Z
DTEND:20190528T035900Z
LOCATION:Skydive Tilstock Tilstock Airfield\,  Whitchurch SY13 2HA\,  United Kingdom
SUMMARY:Rainbow Boogie
DESCRIPTION: Rainbow Boogie
END:VEVENT
END:VCALENDAR