BEGIN:VCALENDAR
VERSION:2.0
PRODID:-//eventon.com NONSGML v1.0//EN
BEGIN:VEVENT
UID:69ebeda216116
DTSTAMP:20260424T182434
DTSTART:20190417T040000Z
DTEND:20190424T035900Z
LOCATION:Skydive Langar 
SUMMARY:Boogie One!
DESCRIPTION: Boogie One!
END:VEVENT
END:VCALENDAR