BEGIN:VCALENDAR
VERSION:2.0
PRODID:-//eventon.com NONSGML v1.0//EN
BEGIN:VEVENT
UID:69ebdc5e042ec
DTSTAMP:20260424T171054
DTSTART:20190426T040000Z
DTEND:20190429T035900Z
LOCATION:
SUMMARY:Birthday Boogie
DESCRIPTION: Birthday Boogie
END:VEVENT
END:VCALENDAR