BEGIN:VCALENDAR
VERSION:2.0
PRODID:-//eventon.com NONSGML v1.0//EN
BEGIN:VEVENT
UID:69ebcb91d495e
DTSTAMP:20260424T155913
DTSTART:20190502T040000Z
DTEND:20190506T035900Z
LOCATION:
SUMMARY:Good Vibes Boogie
DESCRIPTION: Good Vibes Boogie
END:VEVENT
END:VCALENDAR