BEGIN:VCALENDAR
VERSION:2.0
PRODID:-//eventon.com NONSGML v1.0//EN
BEGIN:VEVENT
UID:69ebbd876e01f
DTSTAMP:20260424T145919
DTSTART:20190510T040000Z
DTEND:20190513T035900Z
LOCATION:
SUMMARY:SiS
DESCRIPTION: SiS
END:VEVENT
END:VCALENDAR