BEGIN:VCALENDAR
VERSION:2.0
PRODID:-//eventon.com NONSGML v1.0//EN
BEGIN:VEVENT
UID:69ebcb351891c
DTSTAMP:20260424T155741
DTSTART:20190528T040000Z
DTEND:20190603T035900Z
LOCATION:
SUMMARY:CarolinaFest
DESCRIPTION: CarolinaFest
END:VEVENT
END:VCALENDAR