BEGIN:VCALENDAR
VERSION:2.0
PRODID:-//eventon.com NONSGML v1.0//EN
BEGIN:VEVENT
UID:69ebdf5cbb69d
DTSTAMP:20260424T172340
DTSTART:20190517T040000Z
DTEND:20190520T035900Z
LOCATION:
SUMMARY:UPT Demo Weekend
DESCRIPTION: UPT Demo Weekend
END:VEVENT
END:VCALENDAR