BEGIN:VCALENDAR
VERSION:2.0
PRODID:-//eventon.com NONSGML v1.0//EN
BEGIN:VEVENT
UID:69ebeff211227
DTSTAMP:20260424T183426
DTSTART:20190628T040000Z
DTEND:20190701T035900Z
LOCATION:
SUMMARY:Come & Take It Boogie
DESCRIPTION: Come & Take It Boogie
END:VEVENT
END:VCALENDAR