BEGIN:VCALENDAR
VERSION:2.0
PRODID:-//eventon.com NONSGML v1.0//EN
BEGIN:VEVENT
UID:69ec078c2b798
DTSTAMP:20260424T201508
DTSTART:20190704T040000Z
DTEND:20190708T035900Z
LOCATION:
SUMMARY:4th of July Boogie
DESCRIPTION: 4th of July Boogie
END:VEVENT
END:VCALENDAR