BEGIN:VCALENDAR
VERSION:2.0
PRODID:-//eventon.com NONSGML v1.0//EN
BEGIN:VEVENT
UID:69ec1613f00f8
DTSTAMP:20260424T211707
DTSTART:20190713T040000Z
DTEND:20190715T035900Z
LOCATION:
SUMMARY:UPT Demo Weekend
DESCRIPTION: UPT Demo Weekend
END:VEVENT
END:VCALENDAR