BEGIN:VCALENDAR
VERSION:2.0
PRODID:-//eventon.com NONSGML v1.0//EN
BEGIN:VEVENT
UID:69ec27e7b5971
DTSTAMP:20260424T223311
DTSTART:20190727T040000Z
DTEND:20190805T035900Z
LOCATION:
SUMMARY:SummerFest
DESCRIPTION: SummerFest
END:VEVENT
END:VCALENDAR